BEGIN:VCALENDAR
VERSION:2.0
PRODID:-//Broadway Bicycle School - ECPv6.15.20//NONSGML v1.0//EN
CALSCALE:GREGORIAN
METHOD:PUBLISH
X-WR-CALNAME:Broadway Bicycle School
X-ORIGINAL-URL:https://broadwaybicycleschool.com
X-WR-CALDESC:Events for Broadway Bicycle School
REFRESH-INTERVAL;VALUE=DURATION:PT1H
X-Robots-Tag:noindex
X-PUBLISHED-TTL:PT1H
BEGIN:VTIMEZONE
TZID:America/New_York
BEGIN:DAYLIGHT
TZOFFSETFROM:-0500
TZOFFSETTO:-0400
TZNAME:EDT
DTSTART:20240310T070000
END:DAYLIGHT
BEGIN:STANDARD
TZOFFSETFROM:-0400
TZOFFSETTO:-0500
TZNAME:EST
DTSTART:20241103T060000
END:STANDARD
BEGIN:DAYLIGHT
TZOFFSETFROM:-0500
TZOFFSETTO:-0400
TZNAME:EDT
DTSTART:20250309T070000
END:DAYLIGHT
BEGIN:STANDARD
TZOFFSETFROM:-0400
TZOFFSETTO:-0500
TZNAME:EST
DTSTART:20251102T060000
END:STANDARD
BEGIN:DAYLIGHT
TZOFFSETFROM:-0500
TZOFFSETTO:-0400
TZNAME:EDT
DTSTART:20260308T070000
END:DAYLIGHT
BEGIN:STANDARD
TZOFFSETFROM:-0400
TZOFFSETTO:-0500
TZNAME:EST
DTSTART:20261101T060000
END:STANDARD
END:VTIMEZONE
BEGIN:VEVENT
DTSTART;TZID=America/New_York:20250625T183000
DTEND;TZID=America/New_York:20250625T203000
DTSTAMP:20260422T175153
CREATED:20250604T182705Z
LAST-MODIFIED:20250604T200340Z
UID:6811-1750876200-1750883400@broadwaybicycleschool.com
SUMMARY:Basic Mechanics Class: Introduction to bike maintenance!
DESCRIPTION:This course in basic bicycle mechanics is an introductory course intended for those with little or no bicycle mechanic experience. The class is divided into lecture and hands-on learning where the student works on their own bicycle. \nInstructor: Andy \nTopics include: \n\nA general overview of bicycle systems\, including brief overviews of tires\, brakes\, and general maintenance practices. Students will learn adjustment techniques and when to replace worn components.\n\nA few things to know about our classes\n\nWear clothes that you don’t mind getting grease on.\nWear closed-toe shoes.\nBring your own bike to work on.\nYou must be 18 years of age or older to take our classes.\nDue to insurance limitations\, we aren’t able to do instruction with ebikes. (This means no ebikes in class)\nIf you need to cancel your enrollment you must do so at least 2 weeks before the class starts for a refund. After that\, no refund will be issued.\n10% off parts and accessories for any purchases made during this class session\n\n*If a class does not have sufficient participants to run\, it may be rescheduled. If this occurs\, registered participants will be offered a refund or will have the chance to transfer their registration.
URL:https://broadwaybicycleschool.com/event/basic-mechanics-class-introduction-to-bike-maintenance/
LOCATION:Massachusetts
CATEGORIES:Basic Courses
ATTACH;FMTTYPE=image/jpeg:https://broadwaybicycleschool.com/wp-content/uploads/2023/01/cropped-interior@2x-scaled-1.jpeg
ORGANIZER;CN="Broadway Bicycle School":MAILTO:broadway@broadwaybicycleschool.com
END:VEVENT
END:VCALENDAR