BEGIN:VCALENDAR
VERSION:2.0
PRODID:-//Broadway Bicycle School - ECPv6.15.20//NONSGML v1.0//EN
CALSCALE:GREGORIAN
METHOD:PUBLISH
X-ORIGINAL-URL:https://broadwaybicycleschool.com
X-WR-CALDESC:Events for Broadway Bicycle School
REFRESH-INTERVAL;VALUE=DURATION:PT1H
X-Robots-Tag:noindex
X-PUBLISHED-TTL:PT1H
BEGIN:VTIMEZONE
TZID:America/New_York
BEGIN:DAYLIGHT
TZOFFSETFROM:-0500
TZOFFSETTO:-0400
TZNAME:EDT
DTSTART:20240310T070000
END:DAYLIGHT
BEGIN:STANDARD
TZOFFSETFROM:-0400
TZOFFSETTO:-0500
TZNAME:EST
DTSTART:20241103T060000
END:STANDARD
BEGIN:DAYLIGHT
TZOFFSETFROM:-0500
TZOFFSETTO:-0400
TZNAME:EDT
DTSTART:20250309T070000
END:DAYLIGHT
BEGIN:STANDARD
TZOFFSETFROM:-0400
TZOFFSETTO:-0500
TZNAME:EST
DTSTART:20251102T060000
END:STANDARD
BEGIN:DAYLIGHT
TZOFFSETFROM:-0500
TZOFFSETTO:-0400
TZNAME:EDT
DTSTART:20260308T070000
END:DAYLIGHT
BEGIN:STANDARD
TZOFFSETFROM:-0400
TZOFFSETTO:-0500
TZNAME:EST
DTSTART:20261101T060000
END:STANDARD
END:VTIMEZONE
BEGIN:VEVENT
DTSTART;TZID=America/New_York:20251022T183000
DTEND;TZID=America/New_York:20251022T203000
DTSTAMP:20260422T130751
CREATED:20250610T023720Z
LAST-MODIFIED:20250905T195702Z
UID:6876-1761157800-1761165000@broadwaybicycleschool.com
SUMMARY:Wheelbuilding 
DESCRIPTION:Instructor: Andy \nParticipants will be guided through selecting wheel components\, calculating spoke lengths\, lacing\, truing\, and tensioning a complete bicycle wheel. In past series\, we split this course into four separate days which often resulted in scheduling conflicts. For this series\, we’ll have two sessions – one evening weekday class where we’ll cover selecting and ordering components\, then once parts arrive we’ll complete the wheel build in one Sunday session.  \nDates:  \n\nWednesday October 22nd\, 6:30-8:30pm\nSunday November 2nd\, 10 – 5pm. We will take an hour lunch break from 1-2pm\n\nTuition does not include wheel components. At minimum\, please budget at least $70 for a rim and spokes. If you’re not sure what spacing your frame needs\, please bring the bike so that we can measure it at the first class.  \nA few things to know about our classes\n\nWear clothes that you don’t mind getting grease on.\nWear closed-toe shoes.\nYou must be 18 years of age or older to take our classes. \nDue to insurance limitations\, we can’t have e-bikes in the building. (This means no ebikes in class)\nIf you need to cancel your enrollment you must do so at least 1 week before the class starts for a refund. \n10% off parts and accessories for any purchases made during this class session\n\n*If a class does not have sufficient participants to run\, it may be rescheduled. If this occurs\, registered participants will be offered a refund or will have the chance to transfer their registration.
URL:https://broadwaybicycleschool.com/event/wheelbuilding/
LOCATION:Broadway Bicycle School\, 351 Broadway\, Cambridge\, Massachusetts\, 02139\, United States
ORGANIZER;CN="Broadway Bicycle School":MAILTO:broadway@broadwaybicycleschool.com
END:VEVENT
END:VCALENDAR